BEGIN:VCALENDAR
VERSION:2.0
PRODID:-//iGaming//NONSGML v1.0//EN
CALSCALE:GREGORIAN
BEGIN:VEVENT
UID:69eb5c2ee83e9
DTSTAMP:20260424T120358Z
DTSTART;VALUE=DATE:20250916
DTEND;VALUE=DATE:20250919
SUMMARY:SBC Lisbon
DESCRIPTION:The SBC Summit, the world's premier gaming and betting industry event, returns to the stunning city of Lisbon. Set across the spectacular Feira Internacional De Lisboa &amp; MEO Arena, this three-day conference and exhibition promises to be the most ambitious and comprehensive gathering in the gaming sector.\n<h2>Event highlights</h2>\nThe 2025 edition raises the bar with unprecedented scale and scope:\n<ul>\n 	<li>30,000+ industry professionals,</li>\n 	<li>500+ expert speakers,</li>\n 	<li>700 exhibitors,</li>\n 	<li>120,000m² of exhibition space,</li>\n 	<li>Multiple specialized zones and summits.</li>\n</ul>\n<h2>Specialized zones</h2>\nThe expertly curated exhibition floor features dedicated areas for every aspect of the gaming industry:\n<ul>\n 	<li>Casino &amp; iGaming Zone,</li>\n 	<li>Sports Betting Zone,</li>\n 	<li>Player Protection Zone,</li>\n 	<li>ESI Lisbon (Esports, Gaming &amp; Creators Zone),</li>\n 	<li>Payment Expert Summit,</li>\n 	<li>Affiliate Leaders Summit,</li>\n 	<li>Media Headquarters.</li>\n</ul>\n<h2>Distinguished speakers</h2>\nThe summit attracts the most influential voices in gaming and sports, featuring an unprecedented lineup of industry leaders and innovators. Previous headline speakers have included:\n<ul>\n 	<li>Sir Tim Berners-Lee, Inventor of the World Wide Web,</li>\n 	<li>Tony Hawk, Legendary Skateboarder &amp; Entrepreneur,</li>\n 	<li>Merab Dvalishvili, UFC Champion,</li>\n 	<li>Peter Schmeichel, Football Hall of Famer,</li>\n 	<li>Carsten Koerl, Founder &amp; CEO of Sportradar,</li>\n 	<li>Luís Figo, Soccer Legend.</li>\n</ul>\n<h2>Venue and accessibility</h2>\nLocated in the heart of Lisbon, the Feira Internacional De Lisboa &amp; MEO Arena provides a world-class setting for this landmark event. For attendee convenience, badge collection is available at Humberto Delgado Airport, allowing participants to skip morning queues and start networking from the moment they land in Lisbon.\n<h2>Beyond business</h2>\nThe SBC Summit is more than just a business event - it's a celebration of innovation and collaboration in the gaming industry. Attendees can enjoy:\n<ul>\n 	<li>Interactive exhibition experiences,</li>\n 	<li>Dynamic networking opportunities,</li>\n 	<li>Dedicated Food Festival,</li>\n 	<li>Cultural experiences in the historic city of Lisbon.</li>\n</ul>\nFor more information about registration, exhibition opportunities, and speaking slots, please contact the event organizers.\n\nMore exciting events here: https://igaming.createit.com/knowledge-base/events/
URL:https://sbcevents.com/sbc-summit-2025/
END:VEVENT
END:VCALENDAR