BEGIN:VCALENDAR
VERSION:2.0
PRODID:-//iGaming//NONSGML v1.0//EN
CALSCALE:GREGORIAN
BEGIN:VEVENT
UID:69e8856b74db5
DTSTAMP:20260422T082307Z
DTSTART;VALUE=DATE:20260428
DTEND;VALUE=DATE:20260429
SUMMARY:Med-Connect: Spring Edition -SiGMA iGathering
DESCRIPTION:Join us for the Med-Connect: Spring Edition of SiGMA iGathering at Next, one of Malta’s premier waterfront venues. This invite-only evening brings together leading professionals from the medical, health tech, and life sciences sectors for high-level networking in a relaxed, elegant setting.<br><br>Register now to secure your spot at this exclusive gathering and be part of an unforgettable evening of networking, conversation, and collaboration.\n\nMore exciting events here: https://igaming.createit.com/knowledge-base/events/
URL:https://luma.com/se3gi9vw
END:VEVENT
END:VCALENDAR