BEGIN:VCALENDAR
VERSION:2.0
PRODID:-//iGaming//NONSGML v1.0//EN
CALSCALE:GREGORIAN
BEGIN:VEVENT
UID:69e8856ae2425
DTSTAMP:20260422T082306Z
DTSTART;VALUE=DATE:20260428
DTEND;VALUE=DATE:20260429
SUMMARY:SBC Summit Malta Opening Party
DESCRIPTION:Enjoy pre-registration and networking drinks on Tuesday evening. You can pick up your conference badge, chat with industry friends and grab a few complimentary drinks to beat Wednesday’s queue.\n\nMore exciting events here: https://igaming.createit.com/knowledge-base/events/
URL:https://sbcevents.com/sbc-summit-malta/networking/
END:VEVENT
END:VCALENDAR