BEGIN:VCALENDAR
VERSION:2.0
PRODID:-//iGaming//NONSGML v1.0//EN
CALSCALE:GREGORIAN
BEGIN:VEVENT
UID:69e8856e956bd
DTSTAMP:20260422T082310Z
DTSTART;VALUE=DATE:20260428
DTEND;VALUE=DATE:20260501
SUMMARY:SBC Summit Malta (#SBCSummitMalta)
DESCRIPTION:Stats<br>6,000 Delegates<br>250+ Speakers<br>75 Exhibitors<br><br>SBC Summit Malta will take place on 28–30 April 2026 at the InterContinental Hotel, Malta, the beating heart of European iGaming. Over two days, more than 6,000 senior professionals, including operators, suppliers, affiliates and regulators, will connect for high-level networking, commercial clarity and actionable insights. With a buyer-focused show floor, curated agenda and Malta’s unique ecosystem of over 350 MGA-licensed companies, the summit is built to accelerate strategic alignment and unlock new opportunities across European markets.<br><br>Exclusive 42% discount code: LYCEUMPARTNERVIP<br><br>For a Complimentary Affiliate, Operator, and Regulator passes only:  LYCEUMPARTNERFREE\n\nMore exciting events here: https://igaming.createit.com/knowledge-base/events/
URL:https://sbcevents.com/sbc-summit-malta/
END:VEVENT
END:VCALENDAR