BEGIN:VCALENDAR
VERSION:2.0
PRODID:-//iGaming//NONSGML v1.0//EN
CALSCALE:GREGORIAN
BEGIN:VEVENT
UID:69e8856c819c3
DTSTAMP:20260422T082308Z
DTSTART;VALUE=DATE:20260428
DTEND;VALUE=DATE:20260429
SUMMARY:iGaming Academy: MGA Key Function Training: CEO Workshop
DESCRIPTION:Cover your responsibilities as a CEO/Director of an MGA licensed gambling operator. An interactive, high-level workshop covering the full range of legal responsibilities and practical tips on implementation.<br><br>Dates &amp; Times: 28 April from 10 AM – 4 PM<br><br>Duration: 5 hours of CPD-Accredited Key Function training to satisfy MGA requirements. Includes a 1.5 hour networking lunch<br><br>Ideal for:  CEOs of MGA licensed operators<br><a href="https://igacademy.com/courses/mga-key-function-training-ceo/" target="_blank" rel="noopener" title="https://igacademy.com/courses/mga-key-function-training-ceo/">igacademy.com…</a><br><br>DISCOUNT CODE 10% off all courses:  IGCALENDAR10  VISIT: <a href="https://igacademy.com/?ref=61" target="_blank" rel="noopener" title="https://igacademy.com/?ref=61">igacademy.com…</a> <br> \n\nMore exciting events here: https://igaming.createit.com/knowledge-base/events/
URL:https://igacademy.com/?ref=61
END:VEVENT
END:VCALENDAR