BEGIN:VCALENDAR
VERSION:2.0
PRODID:-//iGaming//NONSGML v1.0//EN
CALSCALE:GREGORIAN
BEGIN:VEVENT
UID:69e8856d8c308
DTSTAMP:20260422T082309Z
DTSTART;VALUE=DATE:20260429
DTEND;VALUE=DATE:20260430
SUMMARY:SBC Summit Malta Official Party
DESCRIPTION:Join us for the Official Networking Party of SBC Summit Malta an evening dedicated to relaxed networking in one of Malta’s most iconic settings. <br><br>Designed to bring the industry together after a full day of conference and exhibition activity, the party offers the perfect balance of business and social connection.<br><br>Expect a vibrant atmosphere with great music, drinks, and a lively crowd of operators, affiliates, suppliers, and senior decision-makers.\n\nMore exciting events here: https://igaming.createit.com/knowledge-base/events/
URL:https://sbcevents.com/sbc-summit-malta/networking/
END:VEVENT
END:VCALENDAR