BEGIN:VCALENDAR
VERSION:2.0
PRODID:-//iGaming//NONSGML v1.0//EN
CALSCALE:GREGORIAN
BEGIN:VEVENT
UID:69e8856befedc
DTSTAMP:20260422T082307Z
DTSTART;VALUE=DATE:20260430
DTEND;VALUE=DATE:20260501
SUMMARY:SBC Awards Europe
DESCRIPTION:SBC Awards Europe will focus on recognising and rewarding the very best operators, affiliates, suppliers, payments and game developers across the European sports betting &amp; gaming industry. <br><br>The SBC Awards Europe is taking place in Malta on the final day of the SBC Summit Malta on Thursday 30th April. Entries may be edited up until the point of submission; all submissions must be made by our entry deadline Tuesday 10th February 2026. Please note only submitted entries will proceed to the judging stage.\n\nMore exciting events here: https://igaming.createit.com/knowledge-base/events/
URL:https://sbcevents.com/sbc-awards-europe/
END:VEVENT
END:VCALENDAR