BEGIN:VCALENDAR
VERSION:2.0
PRODID:-//iGaming//NONSGML v1.0//EN
CALSCALE:GREGORIAN
BEGIN:VEVENT
UID:69e8856e29db4
DTSTAMP:20260422T082310Z
DTSTART;VALUE=DATE:20260430
DTEND;VALUE=DATE:20260501
SUMMARY:SBC Summit Malta Summit Closing Party and SBC Awards Europe After-Party
DESCRIPTION:Get ready to wrap up SBC Summit Malta Summit 2026 in style at our closing party. Don’t miss out on this final chance to meet and raise a glass with fellow attendees and celebrate a successful week.\n\nMore exciting events here: https://igaming.createit.com/knowledge-base/events/
URL:https://sbcevents.com/sbc-summit-malta/networking/
END:VEVENT
END:VCALENDAR