BEGIN:VCALENDAR
VERSION:2.0
PRODID:-//iGaming//NONSGML v1.0//EN
CALSCALE:GREGORIAN
BEGIN:VEVENT
UID:69e8858135a38
DTSTAMP:20260422T082329Z
DTSTART;VALUE=DATE:20260504
DTEND;VALUE=DATE:20260506
SUMMARY:CGS Brasilia
DESCRIPTION: CGS Brasilia, the only event focused in regulation and the future of the industry<br><br> \n\nMore exciting events here: https://igaming.createit.com/knowledge-base/events/
URL:https://brasilia.cgsbrasil.com/
END:VEVENT
END:VCALENDAR