BEGIN:VCALENDAR
VERSION:2.0
PRODID:-//iGaming//NONSGML v1.0//EN
CALSCALE:GREGORIAN
BEGIN:VEVENT
UID:69e8854a6c817
DTSTAMP:20260422T082234Z
DTSTART;VALUE=DATE:20260504
DTEND;VALUE=DATE:20260507
SUMMARY:iGaming AFRIKA Summit
DESCRIPTION:iGaming AFRIKA Summit is Africa’s mega gaming event, designed to unite the entire gaming industry players across the world in one place—the stunning city of Nairobi, Kenya. This being the inaugural edition of the summit, the event is seen to be the largest event in the gaming industry in Africa, taking place in Nairobi in 2026. The summit is taking place in an impressive 3,300m² square meters location at Sarit Expo Centre, Nairobi’s Largest Expo centre giving exhibitors and attendees a massive ground to showcase their products, meet and connect with industry players and as well discuss the future of the gaming industry in Africa.<br><br>General enquiries<br>Contact our event team: <a href="mailto:events@igamingafrika.com" target="_blank" rel="noopener">events@igamingafrika.com</a><br><br> \n\nMore exciting events here: https://igaming.createit.com/knowledge-base/events/
URL:https://summits.igamingafrika.com/
END:VEVENT
END:VCALENDAR