BEGIN:VCALENDAR
VERSION:2.0
PRODID:-//iGaming//NONSGML v1.0//EN
CALSCALE:GREGORIAN
BEGIN:VEVENT
UID:69e8858d2fb94
DTSTAMP:20260422T082341Z
DTSTART;VALUE=DATE:20260505
DTEND;VALUE=DATE:20260507
SUMMARY:CGS Brasilia
DESCRIPTION:Conference, exclusive to C-level executives<br><br> \n\nMore exciting events here: https://igaming.createit.com/knowledge-base/events/
URL:https://brasilia.cgsbrasil.com/
END:VEVENT
END:VCALENDAR