BEGIN:VCALENDAR
VERSION:2.0
PRODID:-//iGaming//NONSGML v1.0//EN
CALSCALE:GREGORIAN
BEGIN:VEVENT
UID:69e88559087d2
DTSTAMP:20260422T082249Z
DTSTART;VALUE=DATE:20260506
DTEND;VALUE=DATE:20260509
SUMMARY:ASEAN Gaming Summit
DESCRIPTION:This premier event serves as a comprehensive platform to delve into cutting-edge trends, engage in insightful discussions, and network with key stakeholders shaping the future of the gaming landscape in Southeast Asia. Attendees can anticipate a dynamic blend of expert-led sessions, networking opportunities, and access to the latest innovations in the gaming sector.<br><br>With more than 3000 attendees, 300 sponsors, 200 speakers and 100 exhibitors the ASEAN Gaming Summit has become known as the intersection point between all sides of the industry.\n\nMore exciting events here: https://igaming.createit.com/knowledge-base/events/
URL:https://aseangaming.com/
END:VEVENT
END:VCALENDAR