BEGIN:VCALENDAR
VERSION:2.0
PRODID:-//iGaming//NONSGML v1.0//EN
CALSCALE:GREGORIAN
BEGIN:VEVENT
UID:69e8858b95a97
DTSTAMP:20260422T082339Z
DTSTART;VALUE=DATE:20260506
DTEND;VALUE=DATE:20260507
SUMMARY:iGaming Academy : âââââââBonus Abuse in Sportsbook: Detection, Prevention & CRM Protection
DESCRIPTION:This course provides sportsbook professionals with a structured and compliant understanding of bonus abuse, including matched betting and multi-accounting behaviour.<br><br>Dates &amp; Times: 6 May from 2:30 PM CEST<br>Duration: 1 session lasting 2.5 hours<br><br>Ideal for:  Sportsbook professionals across Risk &amp; Fraud, CRM &amp; Marketing, Payments &amp; Operations, Compliance &amp; Regulatory Affairs, Trading &amp; Risk Management, Customer Operations &amp; Support. General understanding of sportsbook promotions and customer lifecycle processes is required.<br><br><a href="https://igacademy.com/courses/bonus-abuse-in-sportsbook-classroom/" target="_blank" rel="noopener" title="https://igacademy.com/courses/bonus-abuse-in-sportsbook-classroom/">igacademy.com…</a><br><br>DISCOUNT CODE 10% off all courses:  IGCALENDAR10   VISIT: <a href="https://igacademy.com/?ref=61" target="_blank" rel="noopener" title="https://igacademy.com/?ref=61">igacademy.com…</a> \n\nMore exciting events here: https://igaming.createit.com/knowledge-base/events/
URL:https://igacademy.com/?ref=61
END:VEVENT
END:VCALENDAR