BEGIN:VCALENDAR
VERSION:2.0
PRODID:-//iGaming//NONSGML v1.0//EN
CALSCALE:GREGORIAN
BEGIN:VEVENT
UID:69e8858e35eaa
DTSTAMP:20260422T082342Z
DTSTART;VALUE=DATE:20260512
DTEND;VALUE=DATE:20260515
SUMMARY:G2E Asia 2026
DESCRIPTION:Global Gaming Expo (G2E) Asia is the must-attend marketplace for the Asian gaming-entertainment industry, offering a one-stop platform to showcase the latest technologies, services, and products to the industry professionals where they come to network, source for new products and solutions and learn the latest global industry trends.\n\nMore exciting events here: https://igaming.createit.com/knowledge-base/events/
URL:https://www.g2easia.com/
END:VEVENT
END:VCALENDAR