BEGIN:VCALENDAR
VERSION:2.0
PRODID:-//iGaming//NONSGML v1.0//EN
CALSCALE:GREGORIAN
BEGIN:VEVENT
UID:69e8857a8e95f
DTSTAMP:20260422T082322Z
DTSTART;VALUE=DATE:20260512
DTEND;VALUE=DATE:20260515
SUMMARY:GAT Mexico
DESCRIPTION:This will be GAT Events' third foray into Mexico, following the inaugural GAT Caribe Cancún in November 2014, held in partnership with AIEJA, which marked the return of trade shows to Mexico, and the second edition, which took place in Mexico City. The event will bring together key players in the sector in Mexico City to explore strategic opportunities, promote innovation, and solidify Mexico's position as a business hub for the gaming industry in Latin America.\n\nMore exciting events here: https://igaming.createit.com/knowledge-base/events/
URL:https://www.gatevents.net/cdmx/
END:VEVENT
END:VCALENDAR