BEGIN:VCALENDAR
VERSION:2.0
PRODID:-//iGaming//NONSGML v1.0//EN
CALSCALE:GREGORIAN
BEGIN:VEVENT
UID:69e8857078634
DTSTAMP:20260422T082312Z
DTSTART;VALUE=DATE:20260513
DTEND;VALUE=DATE:20260515
SUMMARY:G&M Events Colombia 2026
DESCRIPTION:G&amp;M Events Colombia 2026: technology, innovation, and training to drive the growth of the gaming sector<br><br><br>Contact Details Mariano Laconici<br>Sales Manager<br><a href="mailto:mariano@g-mnews.com" target="_blank" rel="noopener">mariano@g-mnews.com</a><br><a href="mailto:comercial@g-mnews.com" target="_blank" rel="noopener">comercial@g-mnews.com</a><br> \n\nMore exciting events here: https://igaming.createit.com/knowledge-base/events/
URL:https://g-mnews.com/en/gm-events-colombia-2026/
END:VEVENT
END:VCALENDAR