BEGIN:VCALENDAR
VERSION:2.0
PRODID:-//iGaming//NONSGML v1.0//EN
CALSCALE:GREGORIAN
BEGIN:VEVENT
UID:69e88583c3ad3
DTSTAMP:20260422T082331Z
DTSTART;VALUE=DATE:20260514
DTEND;VALUE=DATE:20260515
SUMMARY:iGaming Academy : Executive Leadership Training
DESCRIPTION:Unlock your leadership potential and inspire others with our transformative training that will teach you how to boost people engagement, streamline processes, and drive exceptional project results.<br><br>Next Available: 14, 21 May &amp; 18 June<br><br>Dates &amp; Time: <br>Unit 1: 14 May  – Managing people<br>Unit 2: 21 May – Managing the process<br>Unit 3: 18 June – Managing projects<br>Duration: 3 hours per module (2 PM – 5 PM CEST)<br><br>INTRODUCTORY OFFER AVAILABLE ON EACH UNIT.<br>Ideal for:  Dynamic team leaders, Ambitious managers, Visionary C-Level Executives who aspire to elevate their leadership capabilities.<br><br><a href="https://igacademy.com/courses/executive-leadership-training/" target="_blank" rel="noopener" title="https://igacademy.com/courses/executive-leadership-training/">igacademy.com…</a><br><br>DISCOUNT CODE 10% off all courses:  IGCALENDAR10  VISIT: <a href="https://igacademy.com/?ref=61" target="_blank" rel="noopener" title="https://igacademy.com/?ref=61">igacademy.com…</a>\n\nMore exciting events here: https://igaming.createit.com/knowledge-base/events/
URL:https://igacademy.com/?ref=61
END:VEVENT
END:VCALENDAR