BEGIN:VCALENDAR
VERSION:2.0
PRODID:-//iGaming//NONSGML v1.0//EN
CALSCALE:GREGORIAN
BEGIN:VEVENT
UID:69e88581b7547
DTSTAMP:20260422T082329Z
DTSTART;VALUE=DATE:20260515
DTEND;VALUE=DATE:20260516
SUMMARY:AFFHUB Conference Ukraine
DESCRIPTION:BASH ARBITRAGE: AFFILIATE CULT<br><br>AFFHUB Conference 2026 in Kyiv is the epicenter of the affiliate industry in Ukraine. A large-scale event bringing<br>together over 2000+ participants: top partners, advertisers, industry experts, and newcomers.\n\nMore exciting events here: https://igaming.createit.com/knowledge-base/events/
URL:https://affhub.media/en/?utm_source=media&#038;utm_campaign=LyceumMedia
END:VEVENT
END:VCALENDAR