BEGIN:VCALENDAR
VERSION:2.0
PRODID:-//iGaming//NONSGML v1.0//EN
CALSCALE:GREGORIAN
BEGIN:VEVENT
UID:69e8858f3fc06
DTSTAMP:20260422T082343Z
DTSTART;VALUE=DATE:20260518
DTEND;VALUE=DATE:20260521
SUMMARY:AffPapa Conference Madrid
DESCRIPTION:After two successful years in Malaga with growing demand and attendees across the board, AffPapa is moving the conference venue from Malaga to Madrid to take things to the next level.<br><br>Madrid conference will bring together 1,500+ attendees, uniting affiliates, operators, and B2B providers in Spain’s capital for 2 full days of industry connections.<br> \n\nMore exciting events here: https://igaming.createit.com/knowledge-base/events/
URL:https://affpapaconf.com/madrid-2026/
END:VEVENT
END:VCALENDAR