BEGIN:VCALENDAR
VERSION:2.0
PRODID:-//iGaming//NONSGML v1.0//EN
CALSCALE:GREGORIAN
BEGIN:VEVENT
UID:69e8858355587
DTSTAMP:20260422T082331Z
DTSTART;VALUE=DATE:20260519
DTEND;VALUE=DATE:20260522
SUMMARY:SBC Summit Canada (#SBCSummitCanada)
DESCRIPTION:Canada’s Premier Gaming and Betting Event<br><br>SBC Summit Canada (formerly Canadian Gaming Summit) is the premier annual conference and exhibition for Canada’s gaming and sports betting industry. Taking place in Toronto on 19–21 May 2026, the event will gather 3,000+ senior executives from across the country and beyond for three days of networking, learning, and business opportunities. The summit brings together Crown Corporations, First Nations, land-based and digital operators, affiliates, suppliers, regulators, and sports organizations to explore Canada’s diverse gaming landscape and unlock new opportunities.<br><br>Stats<br>3,000 Delegates<br>150+ Speakers<br>75+ Exhibitors<br><br>Register here: <a href="https://tinyurl.com/bdejvnnc" target="_blank" rel="noopener" title="https://tinyurl.com/bdejvnnc">tinyurl.com…</a><br>Use our Exclusive 42% discount code:  LYCEUMPARTNERVIP\n\nMore exciting events here: https://igaming.createit.com/knowledge-base/events/
URL:https://tinyurl.com/bdejvnnc
END:VEVENT
END:VCALENDAR