BEGIN:VCALENDAR
VERSION:2.0
PRODID:-//iGaming//NONSGML v1.0//EN
CALSCALE:GREGORIAN
BEGIN:VEVENT
UID:69e8858eb5f8a
DTSTAMP:20260422T082342Z
DTSTART;VALUE=DATE:20260520
DTEND;VALUE=DATE:20260521
SUMMARY:iGaming Academy: Introduction to Trading & Odds Creation
DESCRIPTION:Learn the fundamentals of sportsbook trading, how probabilities are converted into odds and managed in response to information, customer behaviour, and market forces.<br><br>Dates &amp; Times: 20 May from 2 PM CEST<br>Duration: 1 session lasting 2.5 hours<br><br>Ideal for:  Entry-level sportsbook traders and other sportsbook staff in the gambling industry requiring introductory knowledge of trading, pricing, and odds creation.<br><a href="https://igacademy.com/courses/introduction-trading-and-odds-creation/" target="_blank" rel="noopener" title="https://igacademy.com/courses/introduction-trading-and-odds-creation/">igacademy.com…</a><br><br>DISCOUNT CODE 10% off all courses:  IGCALENDAR10   VISIT: <a href="https://igacademy.com/?ref=61" target="_blank" rel="noopener" title="https://igacademy.com/?ref=61">igacademy.com…</a> \n\nMore exciting events here: https://igaming.createit.com/knowledge-base/events/
URL:https://igacademy.com/?ref=61
END:VEVENT
END:VCALENDAR