BEGIN:VCALENDAR
VERSION:2.0
PRODID:-//iGaming//NONSGML v1.0//EN
CALSCALE:GREGORIAN
BEGIN:VEVENT
UID:69e88582bd7e6
DTSTAMP:20260422T082330Z
DTSTART;VALUE=DATE:20260521
DTEND;VALUE=DATE:20260523
SUMMARY:iGaming Germany 2026
DESCRIPTION:The 6th Annual iGaming Germany 2026 is the must-attend event for anyone driving the future of online and retail gaming. With tighter regulations and an increasingly interconnected market, Germany presents unparalleled opportunities for operators and suppliers who combine compliance with innovation. From enhancing digital platforms to modernising retail locations and creating seamless omnichannel experiences, success now hinges on agility, insight, and operational excellence.<br> <br>Reflecting this evolving landscape, the summit features a two-stream agenda: Day One unites all stakeholders to explore regulation, compliance, and policy shaping the market. Day Two splits into Online Operations and Retail Operations, enabling focused discussions on strategies and growth opportunities.<br> <br>iGaming Germany 2026 is where the industry connects, collaborates, and drives the market forward.\n\nMore exciting events here: https://igaming.createit.com/knowledge-base/events/
URL:https://www.eventus-international.com/igg
END:VEVENT
END:VCALENDAR