BEGIN:VCALENDAR
VERSION:2.0
PRODID:-//iGaming//NONSGML v1.0//EN
CALSCALE:GREGORIAN
BEGIN:VEVENT
UID:69e8858a7cb69
DTSTAMP:20260422T082338Z
DTSTART;VALUE=DATE:20260525
DTEND;VALUE=DATE:20260526
SUMMARY:Casino Guru Awards 2026
DESCRIPTION:The Casino Guru Awards celebrate the people and companies truly shaping a better future for online gaming. Now in their fourth year, the awards honor fairness, responsibility, innovation, and positive industry culture, recognizing those who prove that integrity and success can go hand in hand. With categories spotlighting leadership, responsible gambling, workplace culture, and player-focused practices, the awards highlight real impact, not just revenue. The 2026 edition will culminate in an exclusive live ceremony on May 25 in Malta, bringing together nominees, judges, media partners, and industry leaders to celebrate those driving iGaming forward.\n\nMore exciting events here: https://igaming.createit.com/knowledge-base/events/
URL:https://next.io/summits/valletta/
END:VEVENT
END:VCALENDAR