BEGIN:VCALENDAR
VERSION:2.0
PRODID:-//iGaming//NONSGML v1.0//EN
CALSCALE:GREGORIAN
BEGIN:VEVENT
UID:69e8858caa426
DTSTAMP:20260422T082340Z
DTSTART;VALUE=DATE:20260525
DTEND;VALUE=DATE:20260526
SUMMARY:NEXT.io Golf Tournament
DESCRIPTION:Tee off with industry professionals on a scenic course designed for both challenge and enjoyment. Don’t miss this opportunity to combine business with leisure in a relaxed and engaging setting.<br><br>*Please note that registration for this event will be prioritised for Premium Event Pass holders. Full Event Pass holders may also have the opportunity to register, subject to availability.\n\nMore exciting events here: https://igaming.createit.com/knowledge-base/events/
URL:https://next.io/summits/valletta/
END:VEVENT
END:VCALENDAR