BEGIN:VCALENDAR
VERSION:2.0
PRODID:-//iGaming//NONSGML v1.0//EN
CALSCALE:GREGORIAN
BEGIN:VEVENT
UID:69e8858243ae2
DTSTAMP:20260422T082330Z
DTSTART;VALUE=DATE:20260527
DTEND;VALUE=DATE:20260528
SUMMARY:NEXT.io Day1 Networking Event
DESCRIPTION:On the first day of the conference, join us at the Grand Harbour Terrace for a networking event. Connect with peers, explore collaborations, and engage in insightful discussions.<br><br>*Please note that this event is only available to holders of a Full Event Pass or Premium Event Pass. \n\nMore exciting events here: https://igaming.createit.com/knowledge-base/events/
URL:https://next.io/summits/valletta/
END:VEVENT
END:VCALENDAR