BEGIN:VCALENDAR
VERSION:2.0
PRODID:-//iGaming//NONSGML v1.0//EN
CALSCALE:GREGORIAN
BEGIN:VEVENT
UID:69e8858c2610b
DTSTAMP:20260422T082340Z
DTSTART;VALUE=DATE:20260527
DTEND;VALUE=DATE:20260529
SUMMARY:NEXT Summit: Valletta 2026
DESCRIPTION:With 40% operator attendance, it's the industry's top operator led event. Dive into unmatched networking, attend a week-long festival of events, and learn from hundreds of leading experts. Engage with 6,000 global delegates and shape the future of iGaming.<br><br>Contact Details <a href="mailto:Valletta@next.io" target="_blank" rel="noopener">Valletta@next.io</a>\n\nMore exciting events here: https://igaming.createit.com/knowledge-base/events/
URL:https://next.io/summits/valletta/
END:VEVENT
END:VCALENDAR