BEGIN:VCALENDAR
VERSION:2.0
PRODID:-//iGaming//NONSGML v1.0//EN
CALSCALE:GREGORIAN
BEGIN:VEVENT
UID:69e8858da7ba0
DTSTAMP:20260422T082341Z
DTSTART;VALUE=DATE:20260528
DTEND;VALUE=DATE:20260529
SUMMARY:NEXT.io Day2 Networking Event
DESCRIPTION:Let's celebrate the end of an amazing summit together! Join us after day 2 of the conference for an unforgettable evening at the Grand Harbour Terrace featuring fantastic DJs and a breathtaking view.<br><br>*Please note that the participation for this event is only available to holders of a Full Event Pass or Premium Event Pass.\n\nMore exciting events here: https://igaming.createit.com/knowledge-base/events/
URL:https://next.io/summits/valletta/
END:VEVENT
END:VCALENDAR